BEGIN:VCALENDAR
VERSION:2.0
PRODID:-//wp-events-plugin.com//7.2.3.1//EN
TZID:America/Toronto
X-WR-TIMEZONE:America/Toronto
BEGIN:VEVENT
UID:4111@martinluther.ca
DTSTART;TZID=America/Toronto;VALUE=DATE:20240416
DTEND;TZID=America/Toronto;VALUE=DATE:20240417
DTSTAMP:20240413T115249Z
URL:https://martinluther.ca/events/700-pm-bible-study-on-zoom-with-3-germa
 n-churches-in-north-america-tuesday/
SUMMARY:7:00 pm Bible Study on Zoom with 3 German churches in North America
  [Tuesday]
DESCRIPTION:On Tuesday April 16\, 2024 at 7:00 pm we will meet for Bible St
 udy with our friends in the congregations of Martin Luther Church Ottawa a
 nd the German Lutheran Church in Washington\, D.C. to reflect on bible tex
 ts using "the seven steps Bible sharing" method\, practicing together in t
 wo groups of English and German speakers.\n\nOur Bible Study is a mid-week
  discussion group that explores certain  texts in the bible usually on a 
 Tuesday evening approximately once-a-month at 7:00 pm on Zoom starting in 
 March and ending in November 2024.\n\nTo participate check our website cal
 ender for dates and contact office@martinluther.ca for the Zoom login info
 rmation. We meet purely on Zoom\, where you can join with your computer/sm
 artphone/tablet or dial with your cellphone or landline telephone.\n\n Joi
 n Pastor Judith Kierschke (Martin Luther Church\, Ottawa)\, Pastor Annika
  Klappert (Martin Luther Church\, Toronto) and Pastor Dr. Martin Eberle (G
 erman Lutheran Church\, Washinton\, DC) in learning about the historical 
 and theological background of a bible text and find new ways to apply them
  to our lived experience!\n\nAll three leaders speak English and German so
  we have the ability to spread into subgroups according to language prefer
 ences.\n\n2024 Bible Study scheduled dates so far:\nTuesday March 12\, 202
 4 \nTuesday April 16\, 2024\nTuesday May 14\, 2024\nTuesday June 11\, 2024
 \nat 7:00 pm\n\nSubscribe to our Email List for weekly updates.\nYou can f
 ind further news at Church News-Blog: https://martinluther.ca/news-of-the-
 church/\n\nMartin Luther Evangelical Lutheran Church\n2379 Lake Shore Blvd
  West\, Toronto\, Ontario\, Canada M8V 1B7\nTel.: (416) 251-8293 office@ma
 rtinluther.ca\n\nPastor Annika Klappert Cell: (416) 567-2487 pastor@martin
 luther.ca\n\nFollow us on social media:\nFacebook: https://www.facebook.co
 m/martinlutherchurchtoronto\nInstagram: https://www.instagram.com/lutheran
 sbythelake\n\nMartin Luther Church Toronto is a member of the Evangelical 
 Lutheran Church in Canada (ELCIC) and partners with the Evangelische Kirch
 e in Deutschland (EKD).
END:VEVENT
BEGIN:VTIMEZONE
TZID:America/Toronto
X-LIC-LOCATION:America/Toronto
BEGIN:DAYLIGHT
DTSTART:20240310T030000
TZOFFSETFROM:-0500
TZOFFSETTO:-0400
TZNAME:EDT
END:DAYLIGHT
END:VTIMEZONE
END:VCALENDAR