BEGIN:VCALENDAR
VERSION:2.0
PRODID:-//wp-events-plugin.com//7.2.3.1//EN
TZID:America/Toronto
X-WR-TIMEZONE:America/Toronto
BEGIN:VEVENT
UID:4350@martinluther.ca
DTSTART;TZID=America/Toronto:20250625T190000
DTEND;TZID=America/Toronto:20250625T210000
DTSTAMP:20250623T175623Z
URL:https://martinluther.ca/events/700-pm-dinner-church-with-guest-speaker
 -tope-barrett-associate-director-at-youth-unlimited-we-will-meet-outside-i
 n-the-church-backyard-weather-permitting-food-contributions-and-help-with-
 set-up-t/
SUMMARY:7:00 pm Dinner Church with guest speaker Tope Barrett\, Associate D
 irector at Youth Unlimited.
DESCRIPTION:All are welcome to join us on Wednesday June 25\, 2025 for Dinn
 er Church with guest speaker Tope Barrett - Associate Director at Youth Un
 limited (https://www.yugta.ca/)\n\nDue to the warm weather\, we will have 
 dinner inside and then move outdoors for a campfire in our backyard. Food 
 contributions and help with set-up (at 6:00 pm) and take-down are apprecia
 ted. Hope to see you there!\n\n[caption id="attachment_53493" align="align
 right" width="300"] Tope Barrett -Youth Unlimited[/caption]\n\n
END:VEVENT
BEGIN:VTIMEZONE
TZID:America/Toronto
X-LIC-LOCATION:America/Toronto
BEGIN:DAYLIGHT
DTSTART:20250309T030000
TZOFFSETFROM:-0500
TZOFFSETTO:-0400
TZNAME:EDT
END:DAYLIGHT
END:VTIMEZONE
END:VCALENDAR