BEGIN:VCALENDAR
VERSION:2.0
PRODID:-//wp-events-plugin.com//7.2.3.1//EN
TZID:America/Toronto
X-WR-TIMEZONE:America/Toronto
BEGIN:VEVENT
UID:4352@martinluther.ca
DTSTART;TZID=America/Toronto;VALUE=DATE:20250617
DTEND;TZID=America/Toronto;VALUE=DATE:20250618
DTSTAMP:20250614T110800Z
URL:https://martinluther.ca/events/700-pm-online-bible-group-with-ottawa-w
 ashington-in-german-and-english/
SUMMARY:7:00 pm Online Bible Group with Ottawa & Washington in German and 
 English
DESCRIPTION:7 pm Online Bible Group with Ottawa &amp\; Washington in Germa
 n and English.
END:VEVENT
BEGIN:VTIMEZONE
TZID:America/Toronto
X-LIC-LOCATION:America/Toronto
BEGIN:DAYLIGHT
DTSTART:20250309T030000
TZOFFSETFROM:-0500
TZOFFSETTO:-0400
TZNAME:EDT
END:DAYLIGHT
END:VTIMEZONE
END:VCALENDAR