BEGIN:VCALENDAR
VERSION:2.0
PRODID:-//wp-events-plugin.com//7.2.3.1//EN
TZID:America/Toronto
X-WR-TIMEZONE:America/Toronto
BEGIN:VEVENT
UID:4136@martinluther.ca
DTSTART;TZID=America/Toronto;VALUE=DATE:20240216
DTEND;TZID=America/Toronto;VALUE=DATE:20240217
DTSTAMP:20240213T211131Z
URL:https://martinluther.ca/events/730-pm-lent-fasting-campaign-of-the-ekd
 -7wochenohne-join-with-delkina-on-zoom-friday/
SUMMARY:7:30 pm Lent Fasting Campaign of the EKD- 7Wochenohne. Join with DE
 LKINA on Zoom [Friday]
DESCRIPTION:Friday February 16\, 2024  - 7:30 pm Lent Fasting Campaign of 
 the EKD- 7Wochenohne. Join with DELKINA on Zoom \n\nThe first and last we
 ek of Lent we will meet on Zoom together with the German-speaking DELKINA 
 congregations about our experiences\, insights and questions on this year'
 s Lent Fasting Campaign of the Evangelische Kirche Deutschland (EKD) calle
 d "7Wocheohne". 2024 Motto: "Come over! 7 Weeks without going solo"\n\n(DE
 LKINA - Deutsche Evangelisch-Lutherische Konferenz in Nordamerika)\n\nSign
  up for the campaign's free weekly emails\, simply by registering for free
  on their website https://7wochenohne.evangelisch.de/fastenmail\n\nSInce i
 t is much easier to do the campaign together\, DELKINA is offering a lent 
 fasting group this year\, and we look forward to meeting you!\n\nLed by Pa
 stor Dr. Martin Eberle\, German Lutheran Church Washington\, DC\, USA and 
 Pastor Annika Klappert\, Martin Luther Evangelical Lutheran Church\, Toron
 to\, Canada\n\nFriday\, February 16\, 2024 at 7:30 to 8:15 pm on Zoom in G
 erman\n\nTuesday\, March 26\, 2024 at 7:30 to 8:15 pm on Zoom in German\n\
 nJoin Zoom Meeting\nhttps://us02web.zoom.us/j/88204340508?pwd=MEk1dmZUTms1
 cWlhQ2RrLzVUcHZ2UT09\n\nMeeting ID: 882 0434 0508\nPasscode: 572743\n\n"Co
 me over! 7 Weeks without going solo" - this is the motto of this year's Le
 nt fasting campaign of the Evangelische Kirche Deutschland (EKD). The camp
 aign runs from Ash Wednesday (February 14\, 2024) to Easter in German. You
  can receive spiritual inspiration in the form of pictures\, stories and p
 oems by email  These are intended to encourage you to reflect on your own
  life and faith. Whether you want to give up a certain food\, as well as f
 ast with your mind is entirely up to you.\n\n\n\n&nbsp\;\n\n&nbsp\;\n\nSou
 rce: 7Wochenohne/Getty Images
END:VEVENT
BEGIN:VTIMEZONE
TZID:America/Toronto
X-LIC-LOCATION:America/Toronto
BEGIN:STANDARD
DTSTART:20231105T010000
TZOFFSETFROM:-0400
TZOFFSETTO:-0500
TZNAME:EST
END:STANDARD
END:VTIMEZONE
END:VCALENDAR