BEGIN:VCALENDAR
VERSION:2.0
PRODID:-//wp-events-plugin.com//7.2.3.1//EN
TZID:America/Toronto
X-WR-TIMEZONE:America/Toronto
BEGIN:VEVENT
UID:4134@martinluther.ca
DTSTART;TZID=America/Toronto;VALUE=DATE:20240326
DTEND;TZID=America/Toronto;VALUE=DATE:20240327
DTSTAMP:20240213T211546Z
URL:https://martinluther.ca/events/730-pm-lent-fasting-campaign-of-the-ekd
 -7wochenohne-join-with-delkina-on-zoom-tuesday/
SUMMARY:7:30 pm Lent Fasting Campaign of the EKD- 7Wochenohne. Join with DE
 LKINA on Zoom [Tuesday]
DESCRIPTION:7:30 pm Lent Fasting Campaign of the EKD- 7Wocheohne. Join with
  DELKINA on Zoom \n\nThe first and last week of Lent we will meet on Zoom
  together with the German-speaking DELKINA congregations about our experie
 nces\, insights and questions on this year's Lent Fasting Campaign of the 
 Evangelische Kirche Deutschland (EKD) called "7Wochenohne". Motto: "Come o
 ver! 7 Weeks without going solo"\n\n(DELKINA - Deutsche Evangelisch-Luther
 ische Konferenz in Nordamerika)\n\nSign up for the campaign's free weekly 
 emails\, simply by registering for free on their website https://7wochenoh
 ne.evangelisch.de/fastenmail\n\nSInce it is much easier to do the campaign
  together\, DELKINA is offering a lent fasting group this year\, and we lo
 ok forward to meeting you!\n\nLed by Pastor Dr. Martin Eberle\, German Lut
 heran Church Washington\, DC\, USA and Pastor Annika Klappert\, Martin Lut
 her Evangelical Lutheran Church\, Toronto\, Canada\n\nFriday\, February 16
 \, 2024 at 7:30 to 8:15 pm on Zoom in German\n\nTuesday\, March 26\, 2024 
 at 7:30 to 8:15 pm on Zoom in German\n\nJoin Zoom Meeting\nhttps://us02web
 .zoom.us/j/88204340508?pwd=MEk1dmZUTms1cWlhQ2RrLzVUcHZ2UT09\n\nMeeting ID:
  882 0434 0508\nPasscode: 572743\n\nAbout\n\n"Come over! 7 Weeks without g
 oing solo" - this is the motto of this year's Lent fasting campaign of the
  Evangelische Kirche Deutschland (EKD). The campaign runs from Ash Wednesd
 ay (February 14\, 2024) to Easter in German. You can receive spiritual ins
 piration in the form of pictures\, stories and poems by email  These are 
 intended to encourage you to reflect on your own life and faith. Whether y
 ou want to give up a certain food\, as well as fast with your mind is enti
 rely up to you.\n\n\n\n&nbsp\;\n\n&nbsp\;\n\nSource: 7Wochenohne/Getty Ima
 ges
END:VEVENT
BEGIN:VTIMEZONE
TZID:America/Toronto
X-LIC-LOCATION:America/Toronto
BEGIN:DAYLIGHT
DTSTART:20240310T030000
TZOFFSETFROM:-0500
TZOFFSETTO:-0400
TZNAME:EDT
END:DAYLIGHT
END:VTIMEZONE
END:VCALENDAR