BEGIN:VCALENDAR
VERSION:2.0
PRODID:-//wp-events-plugin.com//7.2.3.1//EN
TZID:America/Toronto
X-WR-TIMEZONE:America/Toronto
BEGIN:VEVENT
UID:4512@martinluther.ca
DTSTART;TZID=America/Toronto;VALUE=DATE:20261129
DTEND;TZID=America/Toronto;VALUE=DATE:20261130
DTSTAMP:20251230T174714Z
URL:https://martinluther.ca/events/advent-1-71st-anniversary-of-martin-lut
 her-church-1100-am-service-tbd/
SUMMARY:Advent 1 - 71st Anniversary of Martin Luther Church - 11:00 am Serv
 ice TBD
DESCRIPTION:November 29\, 2026 - First Sunday of Advent - 71st Anniversary 
 of Martin Luther Church - 11:00 am Service TBD\n\n&nbsp\;\n\nFrom home: Li
 sten to our 15 minute German radio devotions which air every Sunday at 9:3
 0 am live on CHLO Radio station AM 530 (a multilingual radio station broad
 casting from Brampton\, Ontario). Later archived as a podcast recording on
  our Radio Devotions webpage.\n\nSubscribe to our weekly Email updates b
 y contacting office@martinluther.ca\nGet to know Pastor Annika Klappert C
 ell: (416) 567-2487 Email: pastor@martinluther.ca\n\nMartin Luther Evange
 lical Lutheran Church\n2379 Lake Shore Blvd West\, Toronto\, Ontario\, Can
 ada M8V 1B7\nTel.: (416) 251-8293 office@martinluther.ca\n\nFollow us on 
 social media:\nFacebook: https://www.facebook.com/martinlutherchurchtoron
 to\nInstagram: https://www.instagram.com/lutheransbythelake\n\nMartin Lut
 her Church Toronto is a member of the Evangelical Lutheran Church in Canad
 a (ELCIC) and partners with the Evangelische Kirche in Deutschland (EKD).
END:VEVENT
BEGIN:VTIMEZONE
TZID:America/Toronto
X-LIC-LOCATION:America/Toronto
BEGIN:STANDARD
DTSTART:20261101T010000
TZOFFSETFROM:-0400
TZOFFSETTO:-0500
TZNAME:EST
END:STANDARD
END:VTIMEZONE
END:VCALENDAR