BEGIN:VCALENDAR
VERSION:2.0
PRODID:-//wp-events-plugin.com//7.2.3.1//EN
TZID:America/Toronto
X-WR-TIMEZONE:America/Toronto
BEGIN:VEVENT
UID:4515@martinluther.ca
DTSTART;TZID=America/Toronto;VALUE=DATE:20261206
DTEND;TZID=America/Toronto;VALUE=DATE:20261207
DTSTAMP:20251230T175543Z
URL:https://martinluther.ca/events/advent-2-1100-am-service-tbd/
SUMMARY:ADVENT 2 -11:00 am Service TBD
DESCRIPTION:December 6\, 2026 | Second Sunday of Advent -11:00 am Service T
 BD\n\nFrom home: Listen to our 15-minute German radio devotion which airs 
 every Sunday at 9:30 am live on CHLO Radio station AM 530 (a multilingual 
 radio station broadcasting from Brampton\, Ontario). Later archived as a p
 odcast recording on our Radio Devotions webpage.\n\nSubscribe to our week
 ly Email updates by contacting office@martinluther.ca\nGet to know Pastor
  Annika Klappert Cell: (416) 567-2487 Email: pastor@martinluther.ca\n\nMa
 rtin Luther Evangelical Lutheran Church\n2379 Lake Shore Blvd West\, Toron
 to\, Ontario\, Canada M8V 1B7\nTel.: (416) 251-8293 office@martinluther.c
 a\n\nFollow us on social media:\nFacebook: https://www.facebook.com/marti
 nlutherchurchtoronto\nInstagram: https://www.instagram.com/lutheransbythe
 lake\n\nMartin Luther Church Toronto is a member of the Evangelical Luther
 an Church in Canada (ELCIC) and partners with the Evangelische Kirche in D
 eutschland (EKD).
END:VEVENT
BEGIN:VTIMEZONE
TZID:America/Toronto
X-LIC-LOCATION:America/Toronto
BEGIN:STANDARD
DTSTART:20261101T010000
TZOFFSETFROM:-0400
TZOFFSETTO:-0500
TZNAME:EST
END:STANDARD
END:VTIMEZONE
END:VCALENDAR