BEGIN:VCALENDAR
VERSION:2.0
PRODID:-//wp-events-plugin.com//7.2.3.1//EN
TZID:America/Toronto
X-WR-TIMEZONE:America/Toronto
BEGIN:VEVENT
UID:4519@martinluther.ca
DTSTART;TZID=America/Toronto;VALUE=DATE:20261220
DTEND;TZID=America/Toronto;VALUE=DATE:20261221
DTSTAMP:20251230T180816Z
URL:https://martinluther.ca/events/advent-4-1100-am-christmas-play-in-bili
 ngual-german-english-service/
SUMMARY:ADVENT 4 - 11:00 am Christmas Play in Bilingual German-English Serv
 ice
DESCRIPTION:December 20\, 2026 | Fourth Sunday of Advent - Christmas Play 1
 1:00 am Bilingual German-English Service\n\n&nbsp\;\n\nFrom home: Listen t
 o our 15-minute German radio devotion which airs every Sunday at 9:30 am l
 ive on CHLO Radio station AM 530 (a multilingual radio station broadcastin
 g from Brampton\, Ontario). Later archived as a podcast recording on our R
 adio Devotions webpage.\n\nSubscribe to our weekly Email updates by conta
 cting office@martinluther.ca\nGet to know Pastor Annika Klappert Cell: (4
 16) 567-2487 Email: pastor@martinluther.ca\n\nMartin Luther Evangelical L
 utheran Church\n2379 Lake Shore Blvd West\, Toronto\, Ontario\, Canada M8V
  1B7\nTel.: (416) 251-8293 office@martinluther.ca\n\nFollow us on social 
 media:\nFacebook: https://www.facebook.com/martinlutherchurchtoronto\nIns
 tagram: https://www.instagram.com/lutheransbythelake\n\nMartin Luther Chu
 rch Toronto is a member of the Evangelical Lutheran Church in Canada (ELCI
 C) and partners with the Evangelische Kirche in Deutschland (EKD).
END:VEVENT
BEGIN:VTIMEZONE
TZID:America/Toronto
X-LIC-LOCATION:America/Toronto
BEGIN:STANDARD
DTSTART:20261101T010000
TZOFFSETFROM:-0400
TZOFFSETTO:-0500
TZNAME:EST
END:STANDARD
END:VTIMEZONE
END:VCALENDAR