BEGIN:VCALENDAR
VERSION:2.0
PRODID:-//wp-events-plugin.com//7.2.3.1//EN
TZID:America/Toronto
X-WR-TIMEZONE:America/Toronto
BEGIN:VEVENT
UID:4504@martinluther.ca
DTSTART;TZID=America/Toronto;VALUE=DATE:20261101
DTEND;TZID=America/Toronto;VALUE=DATE:20261102
DTSTAMP:20251230T173008Z
URL:https://martinluther.ca/events/all-saints-sunday-1100-am-service-tbd/
SUMMARY:ALL SAINTS SUNDAY -11:00 am Service TBD
DESCRIPTION:November 1\, 2026 | All Saints Sunday -11:00 am Service TBD\n\n
 &nbsp\;\n\nFrom home: Listen to our 15-minute German radio devotion which 
 airs every Sunday at 9:30 am live on CHLO Radio station AM 530 (a multilin
 gual radio station broadcasting from Brampton\, Ontario). Later archived a
 s a podcast recording on our Radio Devotions webpage.\n\nSubscribe to our
  weekly Email updates by contacting office@martinluther.ca\nGet to know P
 astor Annika Klappert Cell: (416) 567-2487 Email: pastor@martinluther.ca\
 n\nMartin Luther Evangelical Lutheran Church\n2379 Lake Shore Blvd West\, 
 Toronto\, Ontario\, Canada M8V 1B7\nTel.: (416) 251-8293 office@martinlut
 her.ca\n\nFollow us on social media:\nFacebook: https://www.facebook.com/
 martinlutherchurchtoronto\nInstagram: https://www.instagram.com/lutherans
 bythelake\n\nMartin Luther Church Toronto is a member of the Evangelical L
 utheran Church in Canada (ELCIC) and partners with the Evangelische Kirche
  in Deutschland (EKD).
END:VEVENT
BEGIN:VTIMEZONE
TZID:America/Toronto
X-LIC-LOCATION:America/Toronto
BEGIN:DAYLIGHT
DTSTART:20260308T030000
TZOFFSETFROM:-0500
TZOFFSETTO:-0400
TZNAME:EDT
END:DAYLIGHT
BEGIN:STANDARD
DTSTART:20261101T010000
TZOFFSETFROM:-0400
TZOFFSETTO:-0500
TZNAME:EST
END:STANDARD
END:VTIMEZONE
END:VCALENDAR