BEGIN:VCALENDAR
VERSION:2.0
PRODID:-//wp-events-plugin.com//7.2.3.1//EN
TZID:America/Toronto
X-WR-TIMEZONE:America/Toronto
BEGIN:VEVENT
UID:4496@martinluther.ca
DTSTART;TZID=America/Toronto;VALUE=DATE:20261011
DTEND;TZID=America/Toronto;VALUE=DATE:20261012
DTSTAMP:20251230T171547Z
URL:https://martinluther.ca/events/canadian-thanksgiving-1100-am-bilingual
 -german-english-service/
SUMMARY:CANADIAN THANKSGIVING -11:00 am Bilingual German-English Service
DESCRIPTION:October 11\, 2026 | Canadian Thanksgiving -11:00 am Bilingual G
 erman-English Service\n\nFrom home: Listen to our 15-minute German radio d
 evotion which airs every Sunday at 9:30 am live on CHLO Radio station AM 5
 30 (a multilingual radio station broadcasting from Brampton\, Ontario). La
 ter archived as a podcast recording on our Radio Devotions webpage.\n\nSu
 bscribe to our weekly Email updates by contacting office@martinluther.ca\
 nGet to know Pastor Annika Klappert Cell: (416) 567-2487 Email: pastor@ma
 rtinluther.ca\n\nMartin Luther Evangelical Lutheran Church\n2379 Lake Shor
 e Blvd West\, Toronto\, Ontario\, Canada M8V 1B7\nTel.: (416) 251-8293 of
 fice@martinluther.ca\n\nFollow us on social media:\nFacebook: https://www
 .facebook.com/martinlutherchurchtoronto\nInstagram: https://www.instagram
 .com/lutheransbythelake\n\nMartin Luther Church Toronto is a member of the
  Evangelical Lutheran Church in Canada (ELCIC) and partners with the Evang
 elische Kirche in Deutschland (EKD).
END:VEVENT
BEGIN:VTIMEZONE
TZID:America/Toronto
X-LIC-LOCATION:America/Toronto
BEGIN:DAYLIGHT
DTSTART:20260308T030000
TZOFFSETFROM:-0500
TZOFFSETTO:-0400
TZNAME:EDT
END:DAYLIGHT
END:VTIMEZONE
END:VCALENDAR