BEGIN:VCALENDAR
VERSION:2.0
PRODID:-//wp-events-plugin.com//7.2.3.1//EN
TZID:America/Toronto
X-WR-TIMEZONE:America/Toronto
BEGIN:VEVENT
UID:4510@martinluther.ca
DTSTART;TZID=America/Toronto;VALUE=DATE:20261122
DTEND;TZID=America/Toronto;VALUE=DATE:20261123
DTSTAMP:20251230T174217Z
URL:https://martinluther.ca/events/christ-the-king-sunday-in-northern-germ
 any-it-is-called-eternity-sunday-1100-am-service-tbd/
SUMMARY:CHRIST THE KING SUNDAY. In Northern Germany it is called “Eterni
 ty Sunday” -11:00 am Service TBD
DESCRIPTION:November 22\, 2026 - Christ the King Sunday. In Northern Germa
 ny it is called “Eternity Sunday” -11:00 am Service TBD\n\n&nbsp\;\n\n
 From home: Listen to our 15 minute German radio devotions which air every 
 Sunday at 9:30 am live on CHLO Radio station AM 530 (a multilingual radio 
 station broadcasting from Brampton\, Ontario). Later archived as a podcast
  recording on our Radio Devotions webpage.\n\nSubscribe to our weekly Em
 ail updates by contacting office@martinluther.ca\nGet to know Pastor Anni
 ka Klappert Cell: (416) 567-2487 Email: pastor@martinluther.ca\n\nMartin 
 Luther Evangelical Lutheran Church\n2379 Lake Shore Blvd West\, Toronto\, 
 Ontario\, Canada M8V 1B7\nTel.: (416) 251-8293 office@martinluther.ca\n\n
 Follow us on social media:\nFacebook: https://www.facebook.com/martinluth
 erchurchtoronto\nInstagram: https://www.instagram.com/lutheransbythelake\
 n\nMartin Luther Church Toronto is a member of the Evangelical Lutheran Ch
 urch in Canada (ELCIC) and partners with the Evangelische Kirche in Deutsc
 hland (EKD).
END:VEVENT
BEGIN:VTIMEZONE
TZID:America/Toronto
X-LIC-LOCATION:America/Toronto
BEGIN:STANDARD
DTSTART:20261101T010000
TZOFFSETFROM:-0400
TZOFFSETTO:-0500
TZNAME:EST
END:STANDARD
END:VTIMEZONE
END:VCALENDAR