BEGIN:VCALENDAR
VERSION:2.0
PRODID:-//wp-events-plugin.com//7.2.3.1//EN
TZID:America/Toronto
X-WR-TIMEZONE:America/Toronto
BEGIN:VEVENT
UID:4103@martinluther.ca
DTSTART;TZID=America/Toronto;VALUE=DATE:20241225
DTEND;TZID=America/Toronto;VALUE=DATE:20241226
DTSTAMP:20231227T022757Z
URL:https://martinluther.ca/events/christmas-day-no-service-2/
SUMMARY:CHRISTMAS DAY - No Service
DESCRIPTION:Wednesday\, December 25\, 2024 -  CHRISTMAS DAY - No Service
END:VEVENT
BEGIN:VTIMEZONE
TZID:America/Toronto
X-LIC-LOCATION:America/Toronto
BEGIN:STANDARD
DTSTART:20241103T010000
TZOFFSETFROM:-0400
TZOFFSETTO:-0500
TZNAME:EST
END:STANDARD
END:VTIMEZONE
END:VCALENDAR