BEGIN:VCALENDAR
VERSION:2.0
PRODID:-//wp-events-plugin.com//7.2.3.1//EN
TZID:America/Toronto
X-WR-TIMEZONE:America/Toronto
BEGIN:VEVENT
UID:4523@martinluther.ca
DTSTART;TZID=America/Toronto;VALUE=DATE:20261225
DTEND;TZID=America/Toronto;VALUE=DATE:20261226
DTSTAMP:20251230T181651Z
URL:https://martinluther.ca/events/christmas-day-no-service-3/
SUMMARY:CHRISTMAS DAY -No Service
DESCRIPTION:Friday December 25\, 2026 - Christmas Day -No Service
END:VEVENT
BEGIN:VTIMEZONE
TZID:America/Toronto
X-LIC-LOCATION:America/Toronto
BEGIN:STANDARD
DTSTART:20261101T010000
TZOFFSETFROM:-0400
TZOFFSETTO:-0500
TZNAME:EST
END:STANDARD
END:VTIMEZONE
END:VCALENDAR