BEGIN:VCALENDAR
VERSION:2.0
PRODID:-//wp-events-plugin.com//7.2.3.1//EN
TZID:America/Toronto
X-WR-TIMEZONE:America/Toronto
BEGIN:VEVENT
UID:4521@martinluther.ca
DTSTART;TZID=America/Toronto;VALUE=DATE:20261224
DTEND;TZID=America/Toronto;VALUE=DATE:20261225
DTSTAMP:20251230T181302Z
URL:https://martinluther.ca/events/christmas-eve-500-pm-german-service-630
 -pm-english-service-2/
SUMMARY:CHRISTMAS EVE -5:00 pm GERMAN Service + 6:30 pm ENGLISH Service
DESCRIPTION:[Thursday] December 24\, 2026 | Christmas Eve -5:00 pm GERMAN S
 ervice + 6:30 pm ENGLISH Service\n\n&nbsp\;\n\nSubscribe to our weekly Ema
 il updates by contacting office@martinluther.ca\nGet to know Pastor Annik
 a Klappert Cell: (416) 567-2487 Email: pastor@martinluther.ca\n\nMartin L
 uther Evangelical Lutheran Church\n2379 Lake Shore Blvd West\, Toronto\, O
 ntario\, Canada M8V 1B7\nTel.: (416) 251-8293 office@martinluther.ca\n\nF
 ollow us on social media:\nFacebook: https://www.facebook.com/martinluthe
 rchurchtoronto\nInstagram: https://www.instagram.com/lutheransbythelake\n
 \nMartin Luther Church Toronto is a member of the Evangelical Lutheran Chu
 rch in Canada (ELCIC) and partners with the Evangelische Kirche in Deutsch
 land (EKD).
END:VEVENT
BEGIN:VTIMEZONE
TZID:America/Toronto
X-LIC-LOCATION:America/Toronto
BEGIN:STANDARD
DTSTART:20261101T010000
TZOFFSETFROM:-0400
TZOFFSETTO:-0500
TZNAME:EST
END:STANDARD
END:VTIMEZONE
END:VCALENDAR