BEGIN:VCALENDAR
VERSION:2.0
PRODID:-//wp-events-plugin.com//7.2.3.1//EN
TZID:America/Toronto
X-WR-TIMEZONE:America/Toronto
BEGIN:VEVENT
UID:4107@martinluther.ca
DTSTART;TZID=America/Toronto;VALUE=DATE:20241224
DTEND;TZID=America/Toronto;VALUE=DATE:20241225
DTSTAMP:20241224T151656Z
URL:https://martinluther.ca/events/christmas-eve-500-pm-german-service-630
 -pm-english-service-both-with-church-choir-vicar-alice-rothgordt/
SUMMARY:CHRISTMAS EVE - 5:00 pm German Service\, 6:30 pm English Service. B
 oth with Church Choir (Vicar Alice Rothgordt)
DESCRIPTION:Tuesday\, December 24\, 2024 - CHRISTMAS EVE - 5:00 pm German S
 ervice\, 6:30 pm English Service.Both services led by Vicar Alice Rothgord
 t. Both services with Church Choir led by Linda Marcinkus\, our organist.\
 n\nAs the year draws to a close and the holiday season approaches\, please
  take a moment to reflect on all that we have achieved together. Martin Lu
 ther Evangelical Lutheran Church is so much more than a house of worship. 
 Thanks to your generous contributions of time and money\, it’s also a vi
 brant local community hub with caring outreach programs.\n\nWe all look fo
 rward to our Sunday services\, the beautiful music\, inspiring sermons\, a
 nd the meaningful conversations before and after each service\, or at Bibl
 e Study. During the week\, our building is a lively home for many communit
 y groups including the Martin Luther Child Care which runs programs for to
 ddlers\, pre-school and school-aged children (Monday to Friday)\,  and th
 e Wesley Mimico United Church food bank program for whom we provide space 
 to prep their deliveries.\n\nOur outreach programs Dinner Church (once a m
 onth mid-week)\, Bowls and Blessings outdoor food ministry (Tuesdays and F
 ridays at noon)\, 24/7 Community Food Pantry and Little Library\, and Rais
 ed Bed Gardens in front of 5 Superior Ave (now put to bed for Winter) make
  a significant difference to those in need. None of these accomplishments 
 would be possible without the dedication and hard work of our wonderful st
 aff\, volunteers\, and your ongoing financial donations.\n\nA Note from ou
 r Treasurer\nWe ask you to continue to give generously. As a registered ch
 arity\, we will be providing you with a contribution receipt early next ye
 ar.\n\nWe are deeply grateful to those who have already stepped up to supp
 ort our work on the remediation from flood damage on July 16\, 2024.\n\nWe
  invite anyone who is able to make an additional monthly donation via PAR 
 direct debit or a one-time check or Paypal donation -- each of which is ta
 x deductible -- to us. Authorization for an additional PAR donation can be
  sent to Church Treasurer Kai Herrmann via email: treasurer@martinluther.c
 a Other ways to donate are on our DONATE webpage.\n\nEach contribution --
 no matter the amount-- makes a difference and enables us to continue our m
 ission.  Your generosity has brought us this far and continues to be the 
 foundation of everything we accomplish together. Your commitment\, generos
 ity\, and faith in our work make all the difference.\n\nMay the Christmas 
 season bring you and your loved ones peace\, joy and blessings.\n\n\n\n\n\
 n&nbsp\;\n\nSubscribe to our weekly Email updates by contacting office@mar
 tinluther.ca\nYou can find further news at Church News-Blog: https://marti
 nluther.ca/news-of-the-church/\n\nMartin Luther Evangelical Lutheran Churc
 h\n2379 Lake Shore Blvd West\, Toronto\, Ontario\, Canada M8V 1B7\nTel.: (
 416) 251-8293 office@martinluther.ca\n\nFollow us on social media:\nFacebo
 ok: https://www.facebook.com/martinlutherchurchtoronto\nInstagram: https:/
 /www.instagram.com/lutheransbythelake\n\nMartin Luther Church Toronto is a
  member of the Evangelical Lutheran Church in Canada (ELCIC) and partners 
 with the Evangelische Kirche in Deutschland (EKD).
END:VEVENT
BEGIN:VTIMEZONE
TZID:America/Toronto
X-LIC-LOCATION:America/Toronto
BEGIN:STANDARD
DTSTART:20241103T010000
TZOFFSETFROM:-0400
TZOFFSETTO:-0500
TZNAME:EST
END:STANDARD
END:VTIMEZONE
END:VCALENDAR