BEGIN:VCALENDAR
VERSION:2.0
PRODID:-//wp-events-plugin.com//7.2.3.1//EN
TZID:America/Toronto
X-WR-TIMEZONE:America/Toronto
BEGIN:VEVENT
UID:4145@martinluther.ca
DTSTART;TZID=America/Toronto;VALUE=DATE:20240331
DTEND;TZID=America/Toronto;VALUE=DATE:20240401
DTSTAMP:20240328T194114Z
URL:https://martinluther.ca/events/easter-sunday-1000-am-bilingual-german-
 english-family-service-with-church-choir/
SUMMARY:Easter Sunday - 10:00 am bilingual German-English FAMILY service wi
 th Church Choir
DESCRIPTION:Sunday March 31\, 2024 Easter - 10:00 am English-German FAMILY 
 service with Church Choir\n\nOur Church Choir will sing:\n\n[caption id="a
 ttachment_41093" align="alignright" width="300"] Our organist and choir di
 rector Linda Marcinkus[/caption]\n\n--------------------------------------
 --------\nYou can listen to our German radio devotions which air every Sun
 day at 9:30 am live on CHLO Radio station AM 530 (a multilingual radio sta
 tion broadcasting from Brampton\, Ontario) and later archived as a podcast
  recording on our Radio Devotion webpage.\n\nThe whole German program can 
 also be listened to live on the Internet. German: 8:00 a.m. – 12:00 noon
  at https://am530.ca/player/?playerID=2852 every Sunday.\n\nYou can find f
 urther news at Church News-Blog: https://martinluther.ca/news-of-the-churc
 h/\n\nMartin Luther Evangelical Lutheran Church\n2379 Lake Shore Blvd West
 \, Toronto\, Ontario\, Canada M8V 1B7\nTel.: (416) 251-8293 office@martinl
 uther.ca\n\nPastor Annika Klappert\n\nFollow us on social media:\nFacebook
 : https://www.facebook.com/martinlutherchurchtoronto\nInstagram: https://w
 ww.instagram.com/lutheransbythelake\n\nMartin Luther Church Toronto is a m
 ember of the Evangelical Lutheran Church in Canada (ELCIC) and partners wi
 th the Evangelische Kirche in Deutschland (EKD).
END:VEVENT
BEGIN:VTIMEZONE
TZID:America/Toronto
X-LIC-LOCATION:America/Toronto
BEGIN:DAYLIGHT
DTSTART:20240310T030000
TZOFFSETFROM:-0500
TZOFFSETTO:-0400
TZNAME:EDT
END:DAYLIGHT
END:VTIMEZONE
END:VCALENDAR