BEGIN:VCALENDAR
VERSION:2.0
PRODID:-//wp-events-plugin.com//7.2.3.1//EN
TZID:America/Toronto
X-WR-TIMEZONE:America/Toronto
BEGIN:VEVENT
UID:4492@martinluther.ca
DTSTART;TZID=America/Toronto;VALUE=DATE:20260927
DTEND;TZID=America/Toronto;VALUE=DATE:20260928
DTSTAMP:20251230T170619Z
URL:https://martinluther.ca/events/eighteenth-sunday-after-pentecost-1100-
 am-service-tbd/
SUMMARY:EIGHTEENTH SUNDAY AFTER PENTECOST -11:00 am Service TBD
DESCRIPTION:September 27\, 2026 | Eighteenth Sunday after Pentecost -11:00 
 am Service TBD\n\nFrom home: Listen to our 15-minute German radio devotion
  which airs every Sunday at 9:30 am live on CHLO Radio station AM 530 (a m
 ultilingual radio station broadcasting from Brampton\, Ontario). Later arc
 hived as a podcast recording on our Radio Devotions webpage.\n\nSubscribe
  to our weekly Email updates by contacting office@martinluther.ca\nGet to
  know Pastor Annika Klappert Cell: (416) 567-2487 Email: pastor@martinlut
 her.ca\n\nMartin Luther Evangelical Lutheran Church\n2379 Lake Shore Blvd 
 West\, Toronto\, Ontario\, Canada M8V 1B7\nTel.: (416) 251-8293 office@ma
 rtinluther.ca\n\nFollow us on social media:\nFacebook: https://www.facebo
 ok.com/martinlutherchurchtoronto\nInstagram: https://www.instagram.com/lu
 theransbythelake\n\nMartin Luther Church Toronto is a member of the Evange
 lical Lutheran Church in Canada (ELCIC) and partners with the Evangelische
  Kirche in Deutschland (EKD).\n\n&nbsp\;
END:VEVENT
BEGIN:VTIMEZONE
TZID:America/Toronto
X-LIC-LOCATION:America/Toronto
BEGIN:DAYLIGHT
DTSTART:20260308T030000
TZOFFSETFROM:-0500
TZOFFSETTO:-0400
TZNAME:EDT
END:DAYLIGHT
END:VTIMEZONE
END:VCALENDAR