BEGIN:VCALENDAR
VERSION:2.0
PRODID:-//wp-events-plugin.com//7.2.3.1//EN
TZID:America/Toronto
X-WR-TIMEZONE:America/Toronto
BEGIN:VEVENT
UID:4466@martinluther.ca
DTSTART;TZID=America/Toronto;VALUE=DATE:20260628
DTEND;TZID=America/Toronto;VALUE=DATE:20260629
DTSTAMP:20260313T162448Z
URL:https://martinluther.ca/events/fifth-sunday-after-pentecost-1100-am-bi
 lingual-english-german-church-picnic-service-with-holy-communion-pastor-an
 nika-klappert-followed-by-outdoor-bbq-reception-in-our-backyard/
SUMMARY:FIFTH SUNDAY AFTER PENTECOST - 11:00 am Bilingual English-German CH
 URCH PICNIC Service with Holy Communion (Pastor Annika Klappert)\, followe
 d by outdoor BBQ reception in our backyard
DESCRIPTION:June 28\, 2026 | FIFTH SUNDAY AFTER PENTECOST - 11:00 am Biling
 ual English-German CHURCH PICNIC Service with Holy Communion (Pastor Annik
 a Klappert)\, followed by outdoor BBQ reception in our backyard\n\nGet to 
 know Pastor Annika Klappert Cell: (416) 567-2487 Email: pastor@martinluth
 er.ca\n\nFrom home: Listen to our 15 minute German radio devotions which a
 ir every Sunday at 9:30 am live on CHLO Radio station AM 530 (a multilingu
 al radio station broadcasting from Brampton\, Ontario). Later archived as 
 a podcast recording on our Radio Devotions webpage.\n\nSubscribe to our 
 weekly Email updates by contacting office@martinluther.ca\n\nMartin Luthe
 r Evangelical Lutheran Church\n2379 Lake Shore Blvd West\, Toronto\, Ontar
 io\, Canada M8V 1B7\nTel.: (416) 251-8293 office@martinluther.ca\n\nFollo
 w us on social media:\nFacebook: https://www.facebook.com/martinlutherchu
 rchtoronto\nInstagram: https://www.instagram.com/lutheransbythelake\n\nMa
 rtin Luther Church Toronto is a member of the Evangelical Lutheran Church 
 in Canada (ELCIC) and partners with the Evangelische Kirche in Deutschland
  (EKD).
END:VEVENT
BEGIN:VTIMEZONE
TZID:America/Toronto
X-LIC-LOCATION:America/Toronto
BEGIN:DAYLIGHT
DTSTART:20260308T030000
TZOFFSETFROM:-0500
TZOFFSETTO:-0400
TZNAME:EDT
END:DAYLIGHT
END:VTIMEZONE
END:VCALENDAR