BEGIN:VCALENDAR
VERSION:2.0
PRODID:-//wp-events-plugin.com//7.2.3.1//EN
TZID:America/Toronto
X-WR-TIMEZONE:America/Toronto
BEGIN:VEVENT
UID:4105@martinluther.ca
DTSTART;TZID=America/Toronto;VALUE=DATE:20241229
DTEND;TZID=America/Toronto;VALUE=DATE:20241230
DTSTAMP:20241228T015939Z
URL:https://martinluther.ca/events/first-sunday-after-christmas-1100-am-bi
 lingual-german-english-service-vicar-alice-rothgordt/
SUMMARY:FIRST SUNDAY AFTER CHRISTMAS - 11:00 am Bilingual German - English 
 Service (Vicar Alice Rothgordt)
DESCRIPTION:December 29\, 2024 -  FIRST SUNDAY AFTER CHRISTMAS - 11:00 am 
 Bilingual German - English Service (Vicar Alice Rothgordt)\n\nCan you help
  with coffee and cake/hospitality at our church on Sundays and special occ
 asions? You can bring food (dessert\, fruit tray\, cheese tray\, etc)\, su
 pplies (coffee\, tea\, milk\, cream) and/or help with set up\, serving and
  clean up: washing dishes and wiping tables. Stacking and putting away cha
 irs.\n\nFrom home: Listen to our 15 minute German radio devotion which air
 s every Sunday at 9:30 am live on CHLO Radio station AM 530 (a multilingua
 l radio station broadcasting from Brampton\, Ontario) during the German-la
 nguage programming between 8:00 to 11:30 am. Later archived as a audio fil
 e recording on our Radio Devotions webpage.\n\nSubscribe to our weekly Ema
 il updates by contacting office@martinluther.ca\nYou can find further news
  at Church News-Blog: https://martinluther.ca/news-of-the-church/\n\nMarti
 n Luther Evangelical Lutheran Church\n2379 Lake Shore Blvd West\, Toronto\
 , Ontario\, Canada M8V 1B7\nTel.: (416) 251-8293 office@martinluther.ca\n\
 nFollow us on social media:\nFacebook: https://www.facebook.com/martinluth
 erchurchtoronto\nInstagram: https://www.instagram.com/lutheransbythelake\n
 \nMartin Luther Church Toronto is a member of the Evangelical Lutheran Chu
 rch in Canada (ELCIC) and partners with the Evangelische Kirche in Deutsch
 land (EKD).
END:VEVENT
BEGIN:VTIMEZONE
TZID:America/Toronto
X-LIC-LOCATION:America/Toronto
BEGIN:STANDARD
DTSTART:20241103T010000
TZOFFSETFROM:-0400
TZOFFSETTO:-0500
TZNAME:EST
END:STANDARD
END:VTIMEZONE
END:VCALENDAR