BEGIN:VCALENDAR
VERSION:2.0
PRODID:-//wp-events-plugin.com//7.2.3.1//EN
TZID:America/Toronto
X-WR-TIMEZONE:America/Toronto
BEGIN:VEVENT
UID:4525@martinluther.ca
DTSTART;TZID=America/Toronto;VALUE=DATE:20261227
DTEND;TZID=America/Toronto;VALUE=DATE:20261228
DTSTAMP:20251230T182104Z
URL:https://martinluther.ca/events/first-sunday-after-christmas-1100-am-se
 rvice-tbd/
SUMMARY:FIRST SUNDAY AFTER CHRISTMAS -11:00 am Service TBD
DESCRIPTION:December 27\, 2026 First Sunday after Christmas -11:00 am Servi
 ce TBD\n\nFrom home: Listen to our 15-minute German radio devotion which a
 irs every Sunday at 9:30 am live on CHLO Radio station AM 530 (a multiling
 ual radio station broadcasting from Brampton\, Ontario). Later archived as
  a podcast recording on our Radio Devotions webpage.\n\nSubscribe to our 
 weekly Email updates by contacting office@martinluther.ca\nGet to know Pa
 stor Annika Klappert Cell: (416) 567-2487 Email: pastor@martinluther.ca\n
 \nMartin Luther Evangelical Lutheran Church\n2379 Lake Shore Blvd West\, T
 oronto\, Ontario\, Canada M8V 1B7\nTel.: (416) 251-8293 office@martinluth
 er.ca\n\nFollow us on social media:\nFacebook: https://www.facebook.com/m
 artinlutherchurchtoronto\nInstagram: https://www.instagram.com/lutheransb
 ythelake\n\nMartin Luther Church Toronto is a member of the Evangelical Lu
 theran Church in Canada (ELCIC) and partners with the Evangelische Kirche 
 in Deutschland (EKD).\n\n&nbsp\;
END:VEVENT
BEGIN:VTIMEZONE
TZID:America/Toronto
X-LIC-LOCATION:America/Toronto
BEGIN:STANDARD
DTSTART:20261101T010000
TZOFFSETFROM:-0400
TZOFFSETTO:-0500
TZNAME:EST
END:STANDARD
END:VTIMEZONE
END:VCALENDAR