BEGIN:VCALENDAR
VERSION:2.0
PRODID:-//wp-events-plugin.com//7.2.3.1//EN
TZID:America/Toronto
X-WR-TIMEZONE:America/Toronto
BEGIN:VEVENT
UID:4494@martinluther.ca
DTSTART;TZID=America/Toronto;VALUE=DATE:20261004
DTEND;TZID=America/Toronto;VALUE=DATE:20261005
DTSTAMP:20251230T171049Z
URL:https://martinluther.ca/events/german-thanksgiving-945-am-english-devo
 tion-1100-am-german-service/
SUMMARY:GERMAN THANKSGIVING -9:45 am English Devotion + 11:00 am GERMAN ser
 vice
DESCRIPTION:October 4\, 2026 | German Thanksgiving -9:45 am English Devotio
 n + 11:00 am GERMAN service\n\n&nbsp\;\n\nFrom home: Listen to our 15 minu
 te German radio devotions which air every Sunday at 9:30 am live on CHLO R
 adio station AM 530 (a multilingual radio station broadcasting from Brampt
 on\, Ontario). Later archived as a podcast recording on our Radio Devotio
 ns webpage.\n\nSubscribe to our weekly Email updates by contacting offic
 e@martinluther.ca\nGet to know Pastor Annika Klappert Cell: (416) 567-2487
  Email: pastor@martinluther.ca\n\nMartin Luther Evangelical Lutheran Chur
 ch\n2379 Lake Shore Blvd West\, Toronto\, Ontario\, Canada M8V 1B7\nTel.: 
 (416) 251-8293 office@martinluther.ca\n\nFollow us on social media:\nFace
 book: https://www.facebook.com/martinlutherchurchtoronto\nInstagram: htt
 ps://www.instagram.com/lutheransbythelake\n\nMartin Luther Church Toronto 
 is a member of the Evangelical Lutheran Church in Canada (ELCIC) and partn
 ers with the Evangelische Kirche in Deutschland (EKD).
END:VEVENT
BEGIN:VTIMEZONE
TZID:America/Toronto
X-LIC-LOCATION:America/Toronto
BEGIN:DAYLIGHT
DTSTART:20260308T030000
TZOFFSETFROM:-0500
TZOFFSETTO:-0400
TZNAME:EDT
END:DAYLIGHT
END:VTIMEZONE
END:VCALENDAR