BEGIN:VCALENDAR
VERSION:2.0
PRODID:-//wp-events-plugin.com//7.2.3.1//EN
TZID:America/Toronto
X-WR-TIMEZONE:America/Toronto
BEGIN:VEVENT
UID:4438@martinluther.ca
DTSTART;TZID=America/Toronto;VALUE=DATE:20260403
DTEND;TZID=America/Toronto;VALUE=DATE:20260404
DTSTAMP:20260402T151210Z
URL:https://martinluther.ca/events/good-friday-930-am-full-english-service
 -1100-german-service-both-with-holy-communion-and-church-choir/
SUMMARY:GOOD FRIDAY - 9:30 am FULL English Service + 11:00 GERMAN SERVICE -
  both with Holy Communion and Church Choir
DESCRIPTION:Friday April 3\, 2026 | GOOD FRIDAY - 9:30 am FULL English Serv
 ice + 11:00 GERMAN SERVICE - both with\nHoly Communion and Church Choir (P
 astor Annika Klappert)\n\n\n\nSubscribe to our weekly Email updates by con
 tacting office@martinluther.ca\nGet to know Pastor Annika Klappert Cell: 
 (416) 567-2487 Email: pastor@martinluther.ca\n\nMartin Luther Evangelical
  Lutheran Church\n2379 Lake Shore Blvd West\, Toronto\, Ontario\, Canada M
 8V 1B7\nTel.: (416) 251-8293 office@martinluther.ca\n\nFollow us on socia
 l media:\nFacebook: https://www.facebook.com/martinlutherchurchtoronto\nI
 nstagram: https://www.instagram.com/lutheransbythelake\n\nMartin Luther C
 hurch Toronto is a member of the Evangelical Lutheran Church in Canada (EL
 CIC) and partners with the Evangelische Kirche in Deutschland (EKD).
END:VEVENT
BEGIN:VTIMEZONE
TZID:America/Toronto
X-LIC-LOCATION:America/Toronto
BEGIN:DAYLIGHT
DTSTART:20260308T030000
TZOFFSETFROM:-0500
TZOFFSETTO:-0400
TZNAME:EDT
END:DAYLIGHT
END:VTIMEZONE
END:VCALENDAR