BEGIN:VCALENDAR
VERSION:2.0
PRODID:-//wp-events-plugin.com//7.2.3.1//EN
TZID:America/Toronto
X-WR-TIMEZONE:America/Toronto
BEGIN:VEVENT
UID:4434@martinluther.ca
DTSTART;TZID=America/Toronto;VALUE=DATE:20260329
DTEND;TZID=America/Toronto;VALUE=DATE:20260330
DTSTAMP:20260320T160343Z
URL:https://martinluther.ca/events/palm-sunday-1100-am-bilingual-german-en
 glish-service-with-holy-communion-church-choir-and-installation-of-church-
 council/
SUMMARY:PALM SUNDAY - 11:00 am Bilingual German-English Service with Holy C
 ommunion\, Church Choir\, and INSTALLATION OF CHURCH COUNCIL
DESCRIPTION:March 29\, 2026 | PALM SUNDAY - 11:00 am Bilingual German-Engli
 sh Service with Holy Communion\, Church Choir\, and INSTALLATION OF CHURCH
  COUNCIL (Pastor Annika Klappert)\n\nGet to know Pastor Annika Klappert Ce
 ll: (416) 567-2487 Email: pastor@martinluther.ca\n\nFrom home: Listen to 
 our 15 minute German radio devotions which air every Sunday at 9:30 am liv
 e on CHLO Radio station AM 530 (a multilingual radio station broadcasting 
 from Brampton\, Ontario). Later archived as a podcast recording on our Rad
 io Devotions webpage.\n\nSubscribe to our weekly Email updates by contacti
 ng office@martinluther.ca\n\nMartin Luther Evangelical Lutheran Church\n2
 379 Lake Shore Blvd West\, Toronto\, Ontario\, Canada M8V 1B7\nTel.: (416)
  251-8293 office@martinluther.ca\n\nFollow us on social media:\nFacebook:
  https://www.facebook.com/martinlutherchurchtoronto\nInstagram: https://
 www.instagram.com/lutheransbythelake\n\nMartin Luther Church Toronto is a 
 member of the Evangelical Lutheran Church in Canada (ELCIC) and partners w
 ith the Evangelische Kirche in Deutschland (EKD).
END:VEVENT
BEGIN:VTIMEZONE
TZID:America/Toronto
X-LIC-LOCATION:America/Toronto
BEGIN:DAYLIGHT
DTSTART:20260308T030000
TZOFFSETFROM:-0500
TZOFFSETTO:-0400
TZNAME:EDT
END:DAYLIGHT
END:VTIMEZONE
END:VCALENDAR