BEGIN:VCALENDAR
VERSION:2.0
PRODID:-//wp-events-plugin.com//7.2.3.1//EN
TZID:America/Toronto
X-WR-TIMEZONE:America/Toronto
BEGIN:VEVENT
UID:4527@martinluther.ca
DTSTART;TZID=America/Toronto;VALUE=DATE:20260116
DTEND;TZID=America/Toronto;VALUE=DATE:20260127
DTSTAMP:20260112T195904Z
URL:https://martinluther.ca/events/pastor-annika-klappert-will-be-away-fro
 m-january-16-26-2026/
SUMMARY:Pastor Annika Klappert will be away from January 16-26\, 2026.
DESCRIPTION:Pastor Annika Klappert will be away from January 16-26\, 2026.\
 n\nFor pastoral care during this time\, please contact:\nJanuary 16-22\, 2
 026 - Pastor Katharina Moeller at 416-970-2631\nJanuary 23-26\, 2026- Past
 or Rasma Caune at 647-382-5093
END:VEVENT
BEGIN:VTIMEZONE
TZID:America/Toronto
X-LIC-LOCATION:America/Toronto
BEGIN:STANDARD
DTSTART:20251102T010000
TZOFFSETFROM:-0400
TZOFFSETTO:-0500
TZNAME:EST
END:STANDARD
END:VTIMEZONE
END:VCALENDAR