BEGIN:VCALENDAR
VERSION:2.0
PRODID:-//wp-events-plugin.com//7.2.3.1//EN
TZID:America/Toronto
X-WR-TIMEZONE:America/Toronto
BEGIN:VEVENT
UID:4502@martinluther.ca
DTSTART;TZID=America/Toronto;VALUE=DATE:20261031
DTEND;TZID=America/Toronto;VALUE=DATE:20261101
DTSTAMP:20260116T192809Z
URL:https://martinluther.ca/events/reformation-day-3/
SUMMARY:Reformation Day
DESCRIPTION:Saturday October 31\, 2026 | Reformation Day\n\nReformation Day
  is a Protestant Christian religious holiday celebrated on 31 October
  in remembrance of the onset of the Reformation.\n\nhttps://en.wikipedia
 .org/wiki/Reformation_Day
END:VEVENT
BEGIN:VTIMEZONE
TZID:America/Toronto
X-LIC-LOCATION:America/Toronto
BEGIN:DAYLIGHT
DTSTART:20260308T030000
TZOFFSETFROM:-0500
TZOFFSETTO:-0400
TZNAME:EDT
END:DAYLIGHT
END:VTIMEZONE
END:VCALENDAR