BEGIN:VCALENDAR
VERSION:2.0
PRODID:-//wp-events-plugin.com//7.2.3.1//EN
TZID:America/Toronto
X-WR-TIMEZONE:America/Toronto
BEGIN:VEVENT
UID:4152@martinluther.ca
DTSTART;TZID=America/Toronto;VALUE=DATE:20240507
DTEND;TZID=America/Toronto;VALUE=DATE:20240508
DTSTAMP:20240420T173523Z
URL:https://martinluther.ca/events/tues-600-pm-choir-practice-under-the-di
 rection-of-linda-marcinkus-in-preparation-for-pentecost-sunday-on-may-19-3
 /
SUMMARY:[Tues] 6:00 pm Choir Practice under the direction of Linda Marcinku
 s in preparation for Pentecost Sunday on May 19
DESCRIPTION:Choir Practice at 6 pm under the direction of Linda Marcinkus i
 n preparation for Pentecost Sunday on May 19\n\nTuesday April 23\, 2024\nT
 uesday April 30\, 2024\nTuesday May 7\, 2024\nTuesday May 14\, 2024\n\nWe 
 sing for our congregation for special Sundays (not every Sunday) currently
 \, … Thanksgiving\, All Saints Sunday\, First of Advent\, Christmas Eve\
 , Good Friday\, Easter\, and Pentecost.\n\nWeekly starting the four weeks 
 ahead every Tuesday at 6:00 pm.\n\nWe are a four part choir singing in har
 many (soprano\, alto\, tenor\, bass) accompanied on the piano by Linda Mar
 cinkus our organist and choir director.\n\nWe hope that our choir will be 
 able to delight our congregation with a rich repertoire of songs for many 
 years to come. We invite new members to join our choir and help us to cont
 inue our rich singing tradition. Contact via office@martinluther.ca\n\n
END:VEVENT
BEGIN:VTIMEZONE
TZID:America/Toronto
X-LIC-LOCATION:America/Toronto
BEGIN:DAYLIGHT
DTSTART:20240310T030000
TZOFFSETFROM:-0500
TZOFFSETTO:-0400
TZNAME:EDT
END:DAYLIGHT
END:VTIMEZONE
END:VCALENDAR