BEGIN:VCALENDAR
VERSION:2.0
PRODID:-//wp-events-plugin.com//7.2.3.1//EN
TZID:America/Toronto
X-WR-TIMEZONE:America/Toronto
BEGIN:VEVENT
UID:4141@martinluther.ca
DTSTART;TZID=America/Toronto;VALUE=DATE:20240611
DTEND;TZID=America/Toronto;VALUE=DATE:20240612
DTSTAMP:20240607T003745Z
URL:https://martinluther.ca/events/tuesday-700-pm-bible-study-on-zoom-with
 -3-german-churches-in-north-america-2/
SUMMARY:[Tuesday] 7:00 pm Bible Study on Zoom with 3 German churches in Nor
 th America
DESCRIPTION:On Tuesday June 11\, 2024 at 7:00 pm we will meet for Bible Stu
 dy with our friends in the congregations of Martin Luther Church Ottawa an
 d the German Lutheran Church in Washington\, D.C. to reflect on bible text
 s using "the seven steps Bible sharing" method\, practicing together in tw
 o groups of English and German speakers.\n\nOur Bible Study is a mid-week 
 discussion group that explores certain texts in the bible usually on a Tue
 sday evening approximately once-a-month at 7:00 pm on Zoom starting in Mar
 ch and ending in November 2024.\n\nTo participate check our website calend
 er for dates and contact office@martinluther.ca for the Zoom login informa
 tion. We meet purely on Zoom\, where you can join with your computer/smart
 phone/tablet or dial with your cellphone or landline telephone.\n\n Join P
 astor Judith Kierschke (Martin Luther Church\, Ottawa)\, Pastor Annika Kl
 appert (Martin Luther Church\, Toronto) and Pastor Dr. Martin Eberle (Germ
 an Lutheran Church\, Washinton\, DC) in learning about the historical and
  theological background of a bible text and find new ways to apply them to
  our lived experience!\n\nAll three leaders speak English and German so we
  have the ability to spread into subgroups according to language preferenc
 es.\n\n2024 Bible Study scheduled dates so far:\nTuesday March 12\, 2024 \
 nTuesday April 16\, 2024\nTuesday May 14\, 2024\nTuesday June 11\, 2024\na
 t 7:00 pm\n\nSubscribe to our Email List for weekly updates.\nYou can find
  further news at Church News-Blog: https://martinluther.ca/news-of-the-chu
 rch/\n\nMartin Luther Evangelical Lutheran Church\n2379 Lake Shore Blvd We
 st\, Toronto\, Ontario\, Canada M8V 1B7\nTel.: (416) 251-8293 office@marti
 nluther.ca\n\nPastor Annika Klappert Cell: (416) 567-2487 pastor@martinlut
 her.ca\n\nFollow us on social media:\nFacebook: https://www.facebook.com/m
 artinlutherchurchtoronto\nInstagram: https://www.instagram.com/lutheransby
 thelake\n\nMartin Luther Church Toronto is a member of the Evangelical Lut
 heran Church in Canada (ELCIC) and partners with the Evangelische Kirche i
 n Deutschland (EKD).
END:VEVENT
BEGIN:VTIMEZONE
TZID:America/Toronto
X-LIC-LOCATION:America/Toronto
BEGIN:DAYLIGHT
DTSTART:20240310T030000
TZOFFSETFROM:-0500
TZOFFSETTO:-0400
TZNAME:EDT
END:DAYLIGHT
END:VTIMEZONE
END:VCALENDAR