BEGIN:VCALENDAR
VERSION:2.0
PRODID:-//wp-events-plugin.com//7.2.3.1//EN
TZID:America/Toronto
X-WR-TIMEZONE:America/Toronto
BEGIN:VEVENT
UID:4114@martinluther.ca
DTSTART;TZID=America/Toronto;VALUE=DATE:20240514
DTEND;TZID=America/Toronto;VALUE=DATE:20240515
DTSTAMP:20240513T174238Z
URL:https://martinluther.ca/events/tuesday-700-pm-bible-study-on-zoom-with
 -3-german-churches-in-north-america/
SUMMARY:[Tuesday] 7:00 pm Bible Study on Zoom with 3 German Churches in Nor
 th America
DESCRIPTION:On Tuesday May 14\, 2024 at 7:00 pm we will meet for Bible Stud
 y with our friends in the congregations of Martin Luther Church Ottawa and
  the German Lutheran Church in Washington\, D.C. to reflect on bible texts
  using "the seven steps Bible sharing" method\, practicing together in two
  groups of English and German speakers.\n\nOur Bible Study is a mid-week d
 iscussion group that explores certain  texts in the bible usually on a Tu
 esday evening approximately once-a-month at 7:00 pm on Zoom starting in Ma
 rch and ending in November 2024.\n\nTo participate check our website calen
 der for dates and contact office@martinluther.ca for the Zoom login inform
 ation. We meet purely on Zoom\, where you can join with your computer/smar
 tphone/tablet or dial with your cellphone or landline telephone.\n\n Join 
 Pastor Judith Kierschke (Martin Luther Church\, Ottawa)\, Pastor Annika K
 lappert (Martin Luther Church\, Toronto) and Pastor Dr. Martin Eberle (Ger
 man Lutheran Church\, Washinton\, DC) in learning about the historical an
 d theological background of a bible text and find new ways to apply them t
 o our lived experience!\n\nAll three leaders speak English and German so w
 e have the ability to spread into subgroups according to language preferen
 ces.\n\n2024 Bible Study scheduled dates so far:\nTuesday March 12\, 2024 
 \nTuesday April 16\, 2024\nTuesday May 14\, 2024\nTuesday June 11\, 2024\n
 at 7:00 pm\n\nSubscribe to our Email List for weekly updates.\nYou can fin
 d further news at Church News-Blog: https://martinluther.ca/news-of-the-ch
 urch/\n\nMartin Luther Evangelical Lutheran Church\n2379 Lake Shore Blvd W
 est\, Toronto\, Ontario\, Canada M8V 1B7\nTel.: (416) 251-8293 office@mart
 inluther.ca\n\nPastor Annika Klappert Cell: (416) 567-2487 pastor@martinlu
 ther.ca\n\nFollow us on social media:\nFacebook: https://www.facebook.com/
 martinlutherchurchtoronto\nInstagram: https://www.instagram.com/lutheransb
 ythelake\n\nMartin Luther Church Toronto is a member of the Evangelical Lu
 theran Church in Canada (ELCIC) and partners with the Evangelische Kirche 
 in Deutschland (EKD).
END:VEVENT
BEGIN:VTIMEZONE
TZID:America/Toronto
X-LIC-LOCATION:America/Toronto
BEGIN:DAYLIGHT
DTSTART:20240310T030000
TZOFFSETFROM:-0500
TZOFFSETTO:-0400
TZNAME:EDT
END:DAYLIGHT
END:VTIMEZONE
END:VCALENDAR