BEGIN:VCALENDAR
VERSION:2.0
PRODID:-//wp-events-plugin.com//7.2.3.1//EN
TZID:America/Toronto
X-WR-TIMEZONE:America/Toronto
BEGIN:VEVENT
UID:4508@martinluther.ca
DTSTART;TZID=America/Toronto;VALUE=DATE:20261115
DTEND;TZID=America/Toronto;VALUE=DATE:20261116
DTSTAMP:20251230T173744Z
URL:https://martinluther.ca/events/twenty-fifth-sunday-after-pentecost-110
 0-am-service-tbd/
SUMMARY:TWENTY-FIFTH SUNDAY AFTER PENTECOST -11:00 am Service TBD
DESCRIPTION:November 15\, 2026 | Twenty-Fifth Sunday after Pentecost -11:00
  am Service TBD\n\n&nbsp\;\n\nFrom home: Listen to our 15-minute German ra
 dio devotion which airs every Sunday at 9:30 am live on CHLO Radio station
  AM 530 (a multilingual radio station broadcasting from Brampton\, Ontario
 ). Later archived as a podcast recording on our Radio Devotions webpage.\
 n\nSubscribe to our weekly Email updates by contacting office@martinluthe
 r.ca\nGet to know Pastor Annika Klappert Cell: (416) 567-2487 Email: past
 or@martinluther.ca\n\nMartin Luther Evangelical Lutheran Church\n2379 Lake
  Shore Blvd West\, Toronto\, Ontario\, Canada M8V 1B7\nTel.: (416) 251-829
 3 office@martinluther.ca\n\nFollow us on social media:\nFacebook: https:
 //www.facebook.com/martinlutherchurchtoronto\nInstagram: https://www.inst
 agram.com/lutheransbythelake\n\nMartin Luther Church Toronto is a member o
 f the Evangelical Lutheran Church in Canada (ELCIC) and partners with the 
 Evangelische Kirche in Deutschland (EKD).
END:VEVENT
BEGIN:VTIMEZONE
TZID:America/Toronto
X-LIC-LOCATION:America/Toronto
BEGIN:STANDARD
DTSTART:20261101T010000
TZOFFSETFROM:-0400
TZOFFSETTO:-0500
TZNAME:EST
END:STANDARD
END:VTIMEZONE
END:VCALENDAR