BEGIN:VCALENDAR
VERSION:2.0
PRODID:-//wp-events-plugin.com//7.2.3.1//EN
TZID:America/Toronto
X-WR-TIMEZONE:America/Toronto
BEGIN:VEVENT
UID:4498@martinluther.ca
DTSTART;TZID=America/Toronto;VALUE=DATE:20261018
DTEND;TZID=America/Toronto;VALUE=DATE:20261019
DTSTAMP:20251230T172005Z
URL:https://martinluther.ca/events/twenty-first-sunday-after-pentecost-110
 0-am-service-tbd/
SUMMARY:TWENTY-FIRST SUNDAY AFTER PENTECOST - 11:00 am Service TBD
DESCRIPTION:October 18\, 2026 | Twenty-First Sunday after Pentecost - 11:00
  am Service TBD\n\nFrom home: Listen to our 15-minute German radio devotio
 n which airs every Sunday at 9:30 am live on CHLO Radio station AM 530 (a 
 multilingual radio station broadcasting from Brampton\, Ontario). Later ar
 chived as a podcast recording on our Radio Devotions webpage.\n\nSubscrib
 e to our weekly Email updates by contacting office@martinluther.ca\nGet t
 o know Pastor Annika Klappert Cell: (416) 567-2487 Email: pastor@martinlu
 ther.ca\n\nMartin Luther Evangelical Lutheran Church\n2379 Lake Shore Blvd
  West\, Toronto\, Ontario\, Canada M8V 1B7\nTel.: (416) 251-8293 office@m
 artinluther.ca\n\nFollow us on social media:\nFacebook: https://www.faceb
 ook.com/martinlutherchurchtoronto\nInstagram: https://www.instagram.com/l
 utheransbythelake\n\nMartin Luther Church Toronto is a member of the Evang
 elical Lutheran Church in Canada (ELCIC) and partners with the Evangelisch
 e Kirche in Deutschland (EKD).
END:VEVENT
BEGIN:VTIMEZONE
TZID:America/Toronto
X-LIC-LOCATION:America/Toronto
BEGIN:DAYLIGHT
DTSTART:20260308T030000
TZOFFSETFROM:-0500
TZOFFSETTO:-0400
TZNAME:EDT
END:DAYLIGHT
END:VTIMEZONE
END:VCALENDAR