BEGIN:VCALENDAR
VERSION:2.0
PRODID:-//wp-events-plugin.com//7.2.3.1//EN
TZID:America/Toronto
X-WR-TIMEZONE:America/Toronto
BEGIN:VEVENT
UID:4140@martinluther.ca
DTSTART;TZID=America/Toronto;VALUE=DATE:20240424
DTEND;TZID=America/Toronto;VALUE=DATE:20240425
DTSTAMP:20240420T173205Z
URL:https://martinluther.ca/events/wed-700-pm-dinner-church-with-guest-spe
 aker-katja-brittain-on-topic-of-acts-of-kindness-and-gratitude/
SUMMARY:[Wed] 7:00 pm Dinner Church with guest speaker Katja Brittain on to
 pic of acts of kindness and gratitude
DESCRIPTION:Wed Apr 24\, 2024\, 7 pm Dinner Church with guest speaker Katja
  Brittain on topic of acts of kindness and gratitude\n\n\n\nVolunteer help
 ers are welcome for setting up and taking down tables and chairs\, putting
  place settings on tables\, and bringing food.\n\nDinner Church involves a
  simple potluck meal with a short devotion based on the community meals of
  the early Christians. Held once a month – midweek – at 7:00 pm as an 
 outreach program.\n\nThis year’s Dinner Church by the Lake 2024 schedule
 d so far are:\n\nWednesday January 31\, 2024 at 7pm\nMaundy Thursday March
  28\, 2024 at 7pm with a performance by Church Choir\nWednesday April 24\,
  2024 at 7pm with Katja Brittain\n\nSometimes we have guest speakers from 
 the community\, if available. Otherwise our pastor or laypreachers hold a 
 short devotion. The Dinner Church planning team dinnerchurch@martinluther.
 ca is available for suggestions .\n\nYou can find further news at Church N
 ews-Blog: https://martinluther.ca/news-of-the-church/\n\nMartin Luther Eva
 ngelical Lutheran Church\n2379 Lake Shore Blvd West\, Toronto\, Ontario\, 
 Canada M8V 1B7\nTel.: (416) 251-8293 office@martinluther.ca\nPastor Annika
  Klappert\n\nFollow us on social media:\nFacebook: https://www.facebook.co
 m/martinlutherchurchtoronto\nInstagram: https://www.instagram.com/lutheran
 sbythelake\n\nMartin Luther Church Toronto is a member of the Evangelical 
 Lutheran Church in Canada (ELCIC) and partners with the Evangelische Kirch
 e in Deutschland (EKD).
END:VEVENT
BEGIN:VTIMEZONE
TZID:America/Toronto
X-LIC-LOCATION:America/Toronto
BEGIN:DAYLIGHT
DTSTART:20240310T030000
TZOFFSETFROM:-0500
TZOFFSETTO:-0400
TZNAME:EDT
END:DAYLIGHT
END:VTIMEZONE
END:VCALENDAR