BEGIN:VCALENDAR
VERSION:2.0
PRODID:-//wp-events-plugin.com//7.2.3.1//EN
TZID:America/Toronto
X-WR-TIMEZONE:America/Toronto
BEGIN:VEVENT
UID:4354@martinluther.ca
DTSTART;TZID=America/Toronto;VALUE=DATE:20250723
DTEND;TZID=America/Toronto;VALUE=DATE:20250724
DTSTAMP:20250705T171840Z
URL:https://martinluther.ca/events/wednesday-700-pm-dinner-church-camp-wit
 h-camp-songs-and-marshmellows-at-our-backyard-firepit-family-friendly/
SUMMARY:{Wednesday] 7:00 pm Dinner Church Camp with camp songs and marshmel
 lows at our backyard firepit. Family friendly.
DESCRIPTION:7:00 pm Dinner Church Camp with camp songs and marshmellows at 
 our backyard firepit. Family friendly.\n\n
END:VEVENT
BEGIN:VTIMEZONE
TZID:America/Toronto
X-LIC-LOCATION:America/Toronto
BEGIN:DAYLIGHT
DTSTART:20250309T030000
TZOFFSETFROM:-0500
TZOFFSETTO:-0400
TZNAME:EDT
END:DAYLIGHT
END:VTIMEZONE
END:VCALENDAR