BEGIN:VCALENDAR
VERSION:2.0
PRODID:-//wp-events-plugin.com//7.2.3.1//EN
TZID:America/Toronto
X-WR-TIMEZONE:America/Toronto
BEGIN:VEVENT
UID:4116@martinluther.ca
DTSTART;TZID=America/Toronto;VALUE=DATE:20240301
DTEND;TZID=America/Toronto;VALUE=DATE:20240302
DTSTAMP:20240128T020728Z
URL:https://martinluther.ca/events/weltgebetstag-2024-from-palestine-germa
 n-service-at-st-georges-lutheran-church-410-college-st-toronto-at-1100-am-
 followed-by-fellowship/
SUMMARY:Weltgebetstag 2024 from Palestine -German Service at St. George's L
 utheran Church\, 410 College St\, Toronto at 11:00 am followed by fellowsh
 ip
DESCRIPTION:Weltgebetstag 2024 from Palestine -German Service at St. George
 's Lutheran Church 410 College St\, Toronto\, ON M5T 1S8 Phone: (416) 921-
 2687\n\nService at 11:00 am followed by fellowship\n(Pastor Katharina Moel
 ler\, Organizer)\n\nThe Order of Service for the World Day of Prayer 2024 
 Land Palestine was published by the board of the German committee on Weltg
 ebetstag. You can find it here:\nhttps://weltgebetstag.de/aktuelles/news/d
 ie-neue-printversion-ist-da/\n\n\n\nImage Kathrin Schwarze\n\n&nbsp\;
END:VEVENT
BEGIN:VTIMEZONE
TZID:America/Toronto
X-LIC-LOCATION:America/Toronto
BEGIN:STANDARD
DTSTART:20231105T010000
TZOFFSETFROM:-0400
TZOFFSETTO:-0500
TZNAME:EST
END:STANDARD
END:VTIMEZONE
END:VCALENDAR